{"text_format":"1","workbook":"xlsx","n_sheets":3,"sheets":["Constant PRICE Estimate","Contribution KP","Q-Q Growth rate"],"not_rendered":{"charts":0,"images":0,"macros":1,"external_links":1,"defined_names":5,"comments":0,"pivot_tables":0},"unopened":[],"bounds":{"document_bytes":16777216,"sheet_cells":100000,"rows_first":2000,"rows_last":500,"rows_between":2000,"halvings":0,"cell_chars":16384,"cell_head_chars":4096},"cells_cut":0,"cells_raw":0,"read":"whole","date_system":"1900"}

{"sheet":"Constant PRICE Estimate","index":0,"n_rows":29,"n_cols":23,"rows_kept":29,"cut":false,"hidden":false,"merged":[]}
["Table 2a: Quarterly Gross Domestic Product at Constant Prices (2019Q1=100) by Industry in Zimbabwe dollars"]
[null,null,null,null,null,null,null,null,null,null,null,null,null,null,null,null,null,null,null,null,"ZWL","ZiG"]
["Industry",2019,2019,2019,2019,2020,2020,2020,2020,2021,2021,2021,2021,2022,2022,2022,2022,2023,2023,2023,2023,2024,2024]
[null,"Q1","Q2","Q3",0,"Q1","Q2","Q3","Q4","Q1","Q2","Q3","Q4","Q1","Q2","Q3","Q4","Q1","Q2","Q3","Q4","Q1","Q2"]
["Agriculture, Fishing and forestry",5076547494.3491974,6215568815.6037903,4677756273.4399595,4864085991.2986298,4657798058.0947905,5966325526.6187,4113982208.8486381,6960439481.9507704,6220559656.3344498,6999514792.3787098,5248366265.2192202,7021941847.9085798,8021645888.956811,6231768889.4711924,6229260035.74823,6576110373.0153112,8521444243.6958017,7248734117.9609776,6716067103.4740181,6280951592.0074606,13092956268.566069,10158245647.451401]
["Mining and Quarrying",5878659275.6198349,5994725210.4698372,6851856262.4040823,6802036921.3679199,6343287624.4785252,7298569016.4192553,5984072309.8394356,5963323555.5252953,5325813898.4898443,6662166461.8196783,7512298898.6026878,7591184742.8676987,6642724507.3646049,6692623004.1909714,8250300331.8598967,8350419878.551322,7777574042.1521912,8099812691.296093,7880639200.6772747,7753100162.6804771,13977181139.149136,14161239430.107901]
["Manufacturing",7806407273.7494488,3967551168.8694038,6679193910.2938833,11723052957.097279,7521466749.713419,3906641314.0097213,4971706663.400527,8195250899.0415649,3728412828.5198269,3523658987.4857273,8777727545.1719685,8860095375.9583855,4701984864.7972555,5081506508.6002035,7568656206.0799332,7874558261.4020348,5446340118.3108387,6010675219.7874126,6576334578.1393595,7730471039.2181997,12982912393.660151,13087748165.172218]
["Electricity, Gas, Steam and Air Conditioning Supply",1953824583.3306279,1774145856.7702537,1210409831.7566543,1023255666.2076733,1147088094.3104959,1238808069.6575346,1641692021.4082663,1556674332.9673998,1623723071.6385293,1944732289.0847528,1958933021.0968008,1950672540.9272997,2005285894.4863265,2109433095.6891084,2055594076.7520206,1568362933.0725474,1271332427.0765207,1980345259.1137397,2234946387.366396,1967421456.9747307,3620827862.27,3497871078.9000001]
["Water Supply; Sewerage, Waste Management and Remediation Activities",52713181.810282335,50160761.136863589,57058689.561286718,372658099.05084348,50640445.425036438,39618908.929301627,56466103.842021801,395932829.97631741,123868417.6871566,133960536.40853962,198209321.50926244,155651033.30139378,142613818.29439494,145162333.46653029,187827949.48779604,146483925.9090392,121808050.81352639,134920675.65811041,190875776.04306796,145328758.9302375,198223494.63,184004644.44]
["Construction",1299355372.0367389,1542379269.7276475,1376069827.2789826,1535343751.3799093,1286225969.033982,1116657752.7577634,1829255541.3788929,1805285471.5718544,1260432598.5364621,1473515547.6750302,1842839665.4366255,1674651039.8744345,1244476630.8206463,1532746322.8080826,1873357423.4584835,1616787767.886894,1582107205.5017414,1830709150.7593219,1262850865.9540734,2015012708.4934447,3239347123.04,3370602688.5100002]
["Wholesale and Retail Trade; Repair of Motor Vehicles and Motorcycles",9584695674.077158,10542464958.615606,11115488754.832993,10459547346.367752,10458596895.334381,7639531772.5304384,8683829530.6891575,10688831106.226557,10438616201.75812,10561445607.120111,9874181198.7293243,9626556949.4695606,10483413464.493616,10655504038.748192,10244654823.28701,10985887835.63361,11829676411.243328,11052480624.367592,10807268704.278315,11456179139.62438,17893797480.954994,18567327437.521137]
["Transportation and Storage",1124555652.6023757,1620886671.6186326,1465787815.6950483,1224413832.1418858,901580677.25182784,939099101.3182075,969751150.82795429,982520080.72407138,770179667.1143471,1070023971.8530103,1218736767.5197074,1057109773.1117344,863408245.83413088,1135007973.3645122,1249486982.9932795,1139613391.0404677,971007619.81581664,1082465928.1761279,1370408305.5809457,1404321245.5652661,1720533299.5664833,2134926510.8795283]
["Accommodation and Food Service Activities",1072390299.4079626,1449809852.7819312,1527113300.7382615,1278605691.57388,934531269.52882981,120106501.83635893,295075227.68700898,728175467.30359626,447704490.18507379,757355840.57889259,692608682.88514245,979407324.38199055,798726271.94812822,971973002.05138969,921295462.7721138,866610667.5631572,804474878.32419467,1140864617.0344093,1236908150.6143601,1316062840.0865183,1689525895.7534475,1565338553]
["Information and Communication",2483438206.493433,2497019703.9903035,2737485608.9709535,2625028950.2128682,2593462596.9200435,2621267180.7527461,3112058551.0629573,2936730015.7288208,2910812520.0000448,2464699907.2509079,3742676974.339076,3244351555.4505405,2703768938.8286562,3303840273.1935353,4114142961.2943406,3985102802.4675784,3476620587.0610342,3594138536.9262834,4790742361.7315855,4516762846.6261196,7868232482.7587566,7742445123.2173166]
["Financial and Insurance Activities",3582702507.6073337,3262773416.0317826,3551112891.8050385,3475031198.3854251,4121761748.0236788,3837357962.3660574,3712325710.3784437,3853045810.8435469,3978952877.534863,3991042332.8867097,3965783574.5579534,4055731464.5651779,4639583791.5567417,4559202683.7624664,4512765132.1750193,4779271778.9518156,5353475507.4427176,4761587360.4531794,4519399708.6460209,4298291488.4580832,7302326815.25,7612981665.1999998]
["Real Estate Activities",1305216792.7277019,1373471783.0650358,1637601147.3176711,1871902735.1597712,1889589874.1888728,1289619990.2265036,1526968121.1842937,1529095388.3715715,1575943124.1895742,1568900273.7629147,1716010377.032356,1630014472.3202171,1615807441.0863166,1629063073.3003869,1617332922.245852,1635949532.2811885,1626028573.167367,1623643526.6379824,1613839291.7033081,1652832075.260596,2775052686.7534823,2830553740.4899998]
["Professional, Scientific and Technical Activities",646633189.46835113,662967434.91624236,673069812.47843289,700385557.31677818,583809521.95571649,605333593.29051733,630631616.09645271,611668667.97969294,583259085.2325269,584533804.95345318,598213457.90092254,590440371.94770205,581963836.86118042,584677833.0013355,575919334.75547814,606051350.40452564,624882173.64048719,640953703.01700175,523944669.09752625,580505932.04911828,979535676.16333866,978122116.29117727]
["Administrative and support service activities",852888092.87187171,869813349.84630108,812753231.61939955,708404082.61124897,617384938.73869443,515163046.30561793,461637931.37409174,500359476.7715497,559370850.79606187,630041922.23296559,637443691.43245351,572983137.78400242,603129345.7281208,560875007.87214351,534112297.12368351,743258213.11063671,708478239.89581871,712514518.74574125,538025868.62086391,520511616.6744864,1056664543.4994347,1016069480.0584276]
["Public Administration and Defence; Compulsory Social Security",1183436694.7538152,1158877806.1527712,1184891808.5155299,1197634049.0659842,1180312780.955225,1189980813.8193769,1206976130.7331455,1227949729.8565545,1252561126.1599693,1272357218.6533649,1269453182.9895227,1263618994.8798532,1300402189.5182889,1251415736.5489204,1294123039.8251584,1229098512.2183073,1239203826.02073,1218407796.8395095,1372291069.8887668,1403983362.8426266,2430956590.0100002,2379990158.6599998]
["Education",1953288198.9731951,1958774431.3785386,1909420343.6783442,1795309443.1873019,1613647757.6383934,1434337254.4154866,1279138258.5131629,1269246531.2950797,1378910669.9305303,1461856684.059629,1539491600.6391258,1542166726.320647,1540246280.1640525,1523834174.9603074,1568062886.4522657,1617419937.5387397,1647849870.5480335,1716097981.9703889,1600728498.6345716,1712493109.652632,2897709755.5799999,2844925442.1433802]
["Human Health and Social Work Activities",1121122428.2911701,1084883273.43085,1112373071.9198182,1098359348.9503417,1147211266.6449375,1216700271.2107677,1310801413.4801707,1412611615.9641819,1289141558.6784041,1566086463.628238,1608026783.2751281,1570099966.3828542,1525404905.4491115,1496796152.6324921,1446766800.2156231,1464016613.6083534,1475336236.6158998,1523387193.1070225,1511494785.3432786,1563863214.6120706,2529014312.9699998,2530222185.7062545]
["Arts, Entertainment and Recreation",372494201.25754297,376973235.16742355,360697844.39374977,329813955.61393988,275317059.34965116,245747817.63839898,235122884.32764643,242764853.53950065,271807731.49142146,287779254.11777723,292361634.22210622,287092272.6444577,300642373.65357435,299730353.17578888,315197030.87901336,264684708.2844725,280722338.0940035,291482354.60177886,294702665.667665,327488809.82382923,495585525.19466585,494746938.02529204]
["Other Services",1163925412.7024114,1130744797.0563002,1148015584.4369416,998943014.87611222,927326948.06398106,830185134.031304,843359276.98422003,747625038.88639104,804655252.47271597,818603214.97863483,838176244.81495321,792398570.17630875,801915038.47955501,831873701.06453764,838551290.60792279,861060631.85368228,862919757.93315303,820401751.1320895,862483900.32615602,860652222.03183734,1455355999.0783002,1463387525.3854318]
["Activities of Households as Employers Producing Activities of Households for own use",75349065.504382566,86672434.17547597,82810595.711393788,87468039.528747693,80795073.262916997,81491655.488498598,78696104.761967123,81051647.821417332,87647945.240220144,85221560.660103559,79616009.728564158,76875015.463586405,71356127.138767496,76739212.56809938,83660765.707331106,89448094.522356987,94225337.633432925,76844967.281668961,80606161.191908225,71248930.597690031,132016744.36767037,130780167.89848937]
["GDP basic price",{"$f":"SUM(B5:B24)","v":48589643597.634827},47620664230.804985,50170966606.848434,54171280631.394295,48331835348.913399,42132542683.622551,42943546756.818451,51688582002.345726,44632373571.990143,47857496671.589142,53611154897.102905,54543043175.736412,50588499855.460281,50673773370.470192,55481067753.720444,56400197209.316025,55715507444.986633,55560467974.866432,55984558052.979462,57577482552.209808,{"$f":"SUM(V5:V24)","v":98337756089.215927},{"$f":"SUM(W5:W24)","v":96751528699.057983}]
["Net taxes on products",{"$f":"B27-B28","v":2920953311.4952579},{"$f":"C27-C28","v":2864410532.8123159},2844551387.5447326,3080743002.8386693,2735446693.1750593,2397316129.1764293,2443036914.0384641,2916517893.2964125,2582722128.902235,2525867325.8637209,3071620256.5212855,3327041117.6857376,{"$f":"N27-N28","v":2795029586.4897428},{"$f":"O27-O28","v":2922839219.5158978},3122332512.6133189,3192107639.9206109,{"$f":"R27-R28","v":3078074199.998899},{"$f":"S27-S28","v":3058052589.3433418},3069902611.3160291,3148829774.3825741,{"$f":"V27-V28","v":5164909592.3713408},{"$f":"W27-W28","v":5085721868.8397741}]
["Taxes on products",2920953311.4952579,2864410532.8123159,3006898648.7447324,3235442451.2242742,2806088094.9795995,2469719018.5429654,2514928149.1872811,2992153034.1199541,2645091160.2230468,2605906569.5835786,3158754577.1090345,3410554725.1889343,2867750462.3024144,3007519757.5867853,3210677213.5819206,3278093722.1102881,3155296917.3934855,3140068673.9508219,3161021465.2883148,3241483210.1494818,5298438667.6590691,5234206200.5597286]
["Subsidies ",0,0,162347261.20000002,154699448.38560489,70641401.804540232,72402889.366536155,71891235.148816988,75635140.823541448,62369031.320811719,80039243.719857812,87134320.587749183,83513607.503196478,72720875.812671602,84680538.070887417,88344700.968601644,85986082.189677298,77222717.394586742,82016084.607479885,91118853.972285956,92653435.766907841,133529075.28772862,148484331.71995425]
["GDP at market price",{"$f":"B25+B26","v":51510596909.130081},{"$f":"C25+C26","v":50485074763.617302},53015517994.393166,57252023634.232964,51067282042.088455,44529858812.798981,45386583670.856918,54605099895.642136,47215095700.89238,50383363997.452866,56682775153.624191,57870084293.42215,53383529441.950027,53596612589.986092,58603400266.333763,59592304849.236633,{"$f":"R25+R26","v":58793581644.985535},{"$f":"S25+S26","v":58618520564.209778},59054460664.295494,60726312326.592384,{"$f":"V25+V26","v":103502665681.58727},{"$f":"W25+W26","v":101837250567.89775}]

{"sheet":"Contribution KP","index":1,"n_rows":29,"n_cols":3,"rows_kept":29,"cut":false,"hidden":false,"merged":[]}
["Table 2b. Percentage Contribution: Quarterly Gross Domestic Product at Constant Prices by Industry (2024Q1=100)"]
[]
["Industry",2024,2024]
[null,"Q1","Q2"]
["Agriculture, Fishing and forestry",{"$f":"'Constant PRICE Estimate'!V5/'Constant PRICE Estimate'!$V$29*100","v":12.649873491031501},{"$f":"'Constant PRICE Estimate'!W5/'Constant PRICE Estimate'!$W$29*100","v":9.9749802658690339}]
["Mining and Quarrying",{"$f":"'Constant PRICE Estimate'!V6/'Constant PRICE Estimate'!$V$29*100","v":13.504175034629688},{"$f":"'Constant PRICE Estimate'!W6/'Constant PRICE Estimate'!$W$29*100","v":13.905755851751127}]
["Manufacturing",{"$f":"'Constant PRICE Estimate'!V7/'Constant PRICE Estimate'!$V$29*100","v":12.54355364488913},{"$f":"'Constant PRICE Estimate'!W7/'Constant PRICE Estimate'!$W$29*100","v":12.851631492590473}]
["Electricity, Gas, Steam and Air Conditioning Supply",{"$f":"'Constant PRICE Estimate'!V8/'Constant PRICE Estimate'!$V$29*100","v":3.4982943080992852},{"$f":"'Constant PRICE Estimate'!W8/'Constant PRICE Estimate'!$W$29*100","v":3.4347658242873234}]
["Water Supply; Sewerage, Waste Management and Remediation Activities",{"$f":"'Constant PRICE Estimate'!V9/'Constant PRICE Estimate'!$V$29*100","v":0.19151535211644621},{"$f":"'Constant PRICE Estimate'!W9/'Constant PRICE Estimate'!$W$29*100","v":0.18068500810253019}]
["Construction",{"$f":"'Constant PRICE Estimate'!V10/'Constant PRICE Estimate'!$V$29*100","v":3.1297233764060119},{"$f":"'Constant PRICE Estimate'!W10/'Constant PRICE Estimate'!$W$29*100","v":3.309793488840044}]
["Wholesale and Retail Trade; Repair of Motor Vehicles and Motorcycles",{"$f":"'Constant PRICE Estimate'!V11/'Constant PRICE Estimate'!$V$29*100","v":17.288247952958987},{"$f":"'Constant PRICE Estimate'!W11/'Constant PRICE Estimate'!$W$29*100","v":18.232353420757153}]
["Transportation and Storage",{"$f":"'Constant PRICE Estimate'!V12/'Constant PRICE Estimate'!$V$29*100","v":1.6623082006984096},{"$f":"'Constant PRICE Estimate'!W12/'Constant PRICE Estimate'!$W$29*100","v":2.0964102025281139}]
["Accommodation and Food Service Activities",{"$f":"'Constant PRICE Estimate'!V13/'Constant PRICE Estimate'!$V$29*100","v":1.6323501280160826},{"$f":"'Constant PRICE Estimate'!W13/'Constant PRICE Estimate'!$W$29*100","v":1.537098207454398}]
["Information and Communication",{"$f":"'Constant PRICE Estimate'!V14/'Constant PRICE Estimate'!$V$29*100","v":7.601961196791172},{"$f":"'Constant PRICE Estimate'!W14/'Constant PRICE Estimate'!$W$29*100","v":7.6027633111080615}]
["Financial and Insurance Activities",{"$f":"'Constant PRICE Estimate'!V15/'Constant PRICE Estimate'!$V$29*100","v":7.055206517786389},{"$f":"'Constant PRICE Estimate'!W15/'Constant PRICE Estimate'!$W$29*100","v":7.475635509350492}]
["Real Estate Activities",{"$f":"'Constant PRICE Estimate'!V16/'Constant PRICE Estimate'!$V$29*100","v":2.6811412715596887},{"$f":"'Constant PRICE Estimate'!W16/'Constant PRICE Estimate'!$W$29*100","v":2.7794875889768744}]
["Professional, Scientific and Technical Activities",{"$f":"'Constant PRICE Estimate'!V17/'Constant PRICE Estimate'!$V$29*100","v":0.94638690676504422},{"$f":"'Constant PRICE Estimate'!W17/'Constant PRICE Estimate'!$W$29*100","v":0.96047576975680016}]
["Administrative and support service activities",{"$f":"'Constant PRICE Estimate'!V18/'Constant PRICE Estimate'!$V$29*100","v":1.0209056322763013},{"$f":"'Constant PRICE Estimate'!W18/'Constant PRICE Estimate'!$W$29*100","v":0.99773852337164737}]
["Public Administration and Defence; Compulsory Social Security",{"$f":"'Constant PRICE Estimate'!V19/'Constant PRICE Estimate'!$V$29*100","v":2.3486898371183287},{"$f":"'Constant PRICE Estimate'!W19/'Constant PRICE Estimate'!$W$29*100","v":2.3370526456556227}]
["Education",{"$f":"'Constant PRICE Estimate'!V20/'Constant PRICE Estimate'!$V$29*100","v":2.7996474646309442},{"$f":"'Constant PRICE Estimate'!W20/'Constant PRICE Estimate'!$W$29*100","v":2.7936000100931522}]
["Human Health and Social Work Activities",{"$f":"'Constant PRICE Estimate'!V21/'Constant PRICE Estimate'!$V$29*100","v":2.44342915838534},{"$f":"'Constant PRICE Estimate'!W21/'Constant PRICE Estimate'!$W$29*100","v":2.4845743297235665}]
["Arts, Entertainment and Recreation",{"$f":"'Constant PRICE Estimate'!V22/'Constant PRICE Estimate'!$V$29*100","v":0.47881426234882823},{"$f":"'Constant PRICE Estimate'!W22/'Constant PRICE Estimate'!$W$29*100","v":0.48582118553508113}]
["Other Services",{"$f":"'Constant PRICE Estimate'!V23/'Constant PRICE Estimate'!$V$29*100","v":1.4061048471500408},{"$f":"'Constant PRICE Estimate'!W23/'Constant PRICE Estimate'!$W$29*100","v":1.4369864830647114}]
["Activities of Households as Employers Producing Activities of Households for own use",{"$f":"'Constant PRICE Estimate'!V24/'Constant PRICE Estimate'!$V$29*100","v":0.12754912494119042},{"$f":"'Constant PRICE Estimate'!W24/'Constant PRICE Estimate'!$W$29*100","v":0.12842075681461429}]
["GDP basic price",{"$f":"'Constant PRICE Estimate'!V25/'Constant PRICE Estimate'!$V$29*100","v":95.009877708598808},{"$f":"'Constant PRICE Estimate'!W25/'Constant PRICE Estimate'!$W$29*100","v":95.006029875630844}]
["Net taxes on products",{"$f":"'Constant PRICE Estimate'!V26/'Constant PRICE Estimate'!$V$29*100","v":4.9901222914011951},{"$f":"'Constant PRICE Estimate'!W26/'Constant PRICE Estimate'!$W$29*100","v":4.9939701243691577}]
["Taxes on products",{"$f":"'Constant PRICE Estimate'!V27/'Constant PRICE Estimate'!$V$29*100","v":5.1191325680046145},{"$f":"'Constant PRICE Estimate'!W27/'Constant PRICE Estimate'!$W$29*100","v":5.1397756433633655}]
["Subsidies ",{"$f":"'Constant PRICE Estimate'!V28/'Constant PRICE Estimate'!$V$29*100","v":0.12901027660341982},{"$f":"'Constant PRICE Estimate'!W28/'Constant PRICE Estimate'!$W$29*100","v":0.14580551899420693}]
["Total Contribution at market price",{"$f":"'Constant PRICE Estimate'!V29/'Constant PRICE Estimate'!$V$29*100","v":100},{"$f":"'Constant PRICE Estimate'!W29/'Constant PRICE Estimate'!$W$29*100","v":100}]

{"sheet":"Q-Q Growth rate","index":2,"n_rows":29,"n_cols":3,"rows_kept":29,"cut":false,"hidden":false,"merged":[[0,0,0,1]]}
["Table 2c. Quarter to Quarter Gross Domestic Product Growth Rate at Constant Prices (2024Q1=100) by industry"]
[]
["Industry",2024,2024]
[null,"Q1","Q1"]
["Agriculture, Fishing and forestry","-",{"$f":"'Constant PRICE Estimate'!W5/'Constant PRICE Estimate'!V5*100-100","v":-22.41442315178584}]
["Mining and Quarrying","-",{"$f":"'Constant PRICE Estimate'!W6/'Constant PRICE Estimate'!V6*100-100","v":1.3168484340753821}]
["Manufacturing","-",{"$f":"'Constant PRICE Estimate'!W7/'Constant PRICE Estimate'!V7*100-100","v":0.8074904022556666}]
["Electricity, Gas, Steam and Air Conditioning Supply","-",{"$f":"'Constant PRICE Estimate'!W8/'Constant PRICE Estimate'!V8*100-100","v":-3.3958196315058871}]
["Water Supply; Sewerage, Waste Management and Remediation Activities","-",{"$f":"'Constant PRICE Estimate'!W9/'Constant PRICE Estimate'!V9*100-100","v":-7.1731407099550069}]
["Construction","-",{"$f":"'Constant PRICE Estimate'!W10/'Constant PRICE Estimate'!V10*100-100","v":4.0519141816089785}]
["Wholesale and Retail Trade; Repair of Motor Vehicles and Motorcycles","-",{"$f":"'Constant PRICE Estimate'!W11/'Constant PRICE Estimate'!V11*100-100","v":3.764041463434495}]
["Transportation and Storage","-",{"$f":"'Constant PRICE Estimate'!W12/'Constant PRICE Estimate'!V12*100-100","v":24.085160770643512}]
["Accommodation and Food Service Activities","-",{"$f":"'Constant PRICE Estimate'!W13/'Constant PRICE Estimate'!V13*100-100","v":-7.3504255285809563}]
["Information and Communication","-",{"$f":"'Constant PRICE Estimate'!W14/'Constant PRICE Estimate'!V14*100-100","v":-1.5986736515103246}]
["Financial and Insurance Activities","-",{"$f":"'Constant PRICE Estimate'!W15/'Constant PRICE Estimate'!V15*100-100","v":4.2541899015151614}]
["Real Estate Activities","-",{"$f":"'Constant PRICE Estimate'!W16/'Constant PRICE Estimate'!V16*100-100","v":2.0000000000521823}]
["Professional, Scientific and Technical Activities","-",{"$f":"'Constant PRICE Estimate'!W17/'Constant PRICE Estimate'!V17*100-100","v":-0.14430917694575385}]
["Administrative and support service activities","-",{"$f":"'Constant PRICE Estimate'!W18/'Constant PRICE Estimate'!V18*100-100","v":-3.8418118305139188}]
["Public Administration and Defence; Compulsory Social Security","-",{"$f":"'Constant PRICE Estimate'!W19/'Constant PRICE Estimate'!V19*100-100","v":-2.0965586781535563}]
["Education","-",{"$f":"'Constant PRICE Estimate'!W20/'Constant PRICE Estimate'!V20*100-100","v":-1.8215873185703089}]
["Human Health and Social Work Activities","-",{"$f":"'Constant PRICE Estimate'!W21/'Constant PRICE Estimate'!V21*100-100","v":4.7760612902038702E-2}]
["Arts, Entertainment and Recreation","-",{"$f":"'Constant PRICE Estimate'!W22/'Constant PRICE Estimate'!V22*100-100","v":-0.16921139273476626}]
["Other Services","-",{"$f":"'Constant PRICE Estimate'!W23/'Constant PRICE Estimate'!V23*100-100","v":0.55185991003013157}]
["Activities of Households as Employers Producing Activities of Households for own use","-",{"$f":"'Constant PRICE Estimate'!W24/'Constant PRICE Estimate'!V24*100-100","v":-0.93668153619748296}]
["GDP at Basic Prices","-",{"$f":"'Constant PRICE Estimate'!W25/'Constant PRICE Estimate'!V25*100-100","v":-1.6130400501704116}]
["Net Taxes on Products","-",{"$f":"'Constant PRICE Estimate'!W26/'Constant PRICE Estimate'!V26*100-100","v":-1.5331870212893648}]
["Taxes on Products","-",{"$f":"'Constant PRICE Estimate'!W27/'Constant PRICE Estimate'!V27*100-100","v":-1.212290471368604}]
["Less Subsidies on Products","-",{"$f":"'Constant PRICE Estimate'!W28/'Constant PRICE Estimate'!V28*100-100","v":11.200000000000017}]
["GDP at Market Prices","-",{"$f":"'Constant PRICE Estimate'!W29/'Constant PRICE Estimate'!V29*100-100","v":-1.6090552863758631}]